BEGIN:VCALENDAR
VERSION:2.0
PRODID:-// - ECPv6.15.20//NONSGML v1.0//EN
CALSCALE:GREGORIAN
METHOD:PUBLISH
X-ORIGINAL-URL:https://site.loevenicher-neustaedter.de
X-WR-CALDESC:Veranstaltungen für 
REFRESH-INTERVAL;VALUE=DURATION:PT1H
X-Robots-Tag:noindex
X-PUBLISHED-TTL:PT1H
BEGIN:VTIMEZONE
TZID:Europe/Berlin
BEGIN:DAYLIGHT
TZOFFSETFROM:+0100
TZOFFSETTO:+0200
TZNAME:CEST
DTSTART:20250330T010000
END:DAYLIGHT
BEGIN:STANDARD
TZOFFSETFROM:+0200
TZOFFSETTO:+0100
TZNAME:CET
DTSTART:20251026T010000
END:STANDARD
BEGIN:DAYLIGHT
TZOFFSETFROM:+0100
TZOFFSETTO:+0200
TZNAME:CEST
DTSTART:20260329T010000
END:DAYLIGHT
BEGIN:STANDARD
TZOFFSETFROM:+0200
TZOFFSETTO:+0100
TZNAME:CET
DTSTART:20261025T010000
END:STANDARD
BEGIN:DAYLIGHT
TZOFFSETFROM:+0100
TZOFFSETTO:+0200
TZNAME:CEST
DTSTART:20270328T010000
END:DAYLIGHT
BEGIN:STANDARD
TZOFFSETFROM:+0200
TZOFFSETTO:+0100
TZNAME:CET
DTSTART:20271031T010000
END:STANDARD
BEGIN:DAYLIGHT
TZOFFSETFROM:+0100
TZOFFSETTO:+0200
TZNAME:CEST
DTSTART:20280326T010000
END:DAYLIGHT
BEGIN:STANDARD
TZOFFSETFROM:+0200
TZOFFSETTO:+0100
TZNAME:CET
DTSTART:20281029T010000
END:STANDARD
END:VTIMEZONE
BEGIN:VEVENT
DTSTART;TZID=Europe/Berlin:20260609T193000
DTEND;TZID=Europe/Berlin:20260609T210000
DTSTAMP:20260424T132116
CREATED:20260308T121057Z
LAST-MODIFIED:20260308T123450Z
UID:5676-1781033400-1781038800@site.loevenicher-neustaedter.de
SUMMARY:Mitgliederversammlung
DESCRIPTION:
URL:https://site.loevenicher-neustaedter.de/event/mitgliederversammlung-3/
LOCATION:Casino im Odemshof in Lövenich\, Brauweilerstraße 16\, 50859 Köln\, Köln\, Deutschland
CATEGORIES:Öffentliche Veranstaltung
END:VEVENT
BEGIN:VEVENT
DTSTART;TZID=Europe/Berlin:20260627T140000
DTEND;TZID=Europe/Berlin:20260627T220000
DTSTAMP:20260424T132116
CREATED:20260308T121711Z
LAST-MODIFIED:20260308T122152Z
UID:5686-1782568800-1782597600@site.loevenicher-neustaedter.de
SUMMARY:Sommerfest am Odemshof
DESCRIPTION:
URL:https://site.loevenicher-neustaedter.de/event/sommerfest/
LOCATION:Casino im Odemshof in Lövenich\, Brauweilerstraße 16\, 50859 Köln\, Köln\, Deutschland
END:VEVENT
BEGIN:VEVENT
DTSTART;TZID=Europe/Berlin:20260908T193000
DTEND;TZID=Europe/Berlin:20260908T210000
DTSTAMP:20260424T132116
CREATED:20260308T121225Z
LAST-MODIFIED:20260308T123415Z
UID:5678-1788895800-1788901200@site.loevenicher-neustaedter.de
SUMMARY:Mitgliederversammlung
DESCRIPTION:
URL:https://site.loevenicher-neustaedter.de/event/mitgliederversammlung-4/
LOCATION:Casino im Odemshof in Lövenich\, Brauweilerstraße 16\, 50859 Köln\, Köln\, Deutschland
CATEGORIES:Öffentliche Veranstaltung
END:VEVENT
BEGIN:VEVENT
DTSTART;TZID=Europe/Berlin:20261013T193000
DTEND;TZID=Europe/Berlin:20261013T210000
DTSTAMP:20260424T132116
CREATED:20260308T121320Z
LAST-MODIFIED:20260308T123341Z
UID:5680-1791919800-1791925200@site.loevenicher-neustaedter.de
SUMMARY:Mitgliederversammlung
DESCRIPTION:
URL:https://site.loevenicher-neustaedter.de/event/mitgliederversammlung-5/
LOCATION:Casino im Odemshof in Lövenich\, Brauweilerstraße 16\, 50859 Köln\, Köln\, Deutschland
CATEGORIES:Öffentliche Veranstaltung
END:VEVENT
BEGIN:VEVENT
DTSTART;TZID=Europe/Berlin:20261110T193000
DTEND;TZID=Europe/Berlin:20261110T210000
DTSTAMP:20260424T132116
CREATED:20260308T121404Z
LAST-MODIFIED:20260308T123309Z
UID:5682-1794339000-1794344400@site.loevenicher-neustaedter.de
SUMMARY:Mitgliederversammlung
DESCRIPTION:
URL:https://site.loevenicher-neustaedter.de/event/mitgliederversammlung-6/
LOCATION:Casino im Odemshof in Lövenich\, Brauweilerstraße 16\, 50859 Köln\, Köln\, Deutschland
CATEGORIES:Öffentliche Veranstaltung
END:VEVENT
BEGIN:VEVENT
DTSTART;TZID=Europe/Berlin:20261205T130000
DTEND;TZID=Europe/Berlin:20261205T180000
DTSTAMP:20260424T132116
CREATED:20260308T122102Z
LAST-MODIFIED:20260308T122102Z
UID:5688-1796475600-1796493600@site.loevenicher-neustaedter.de
SUMMARY:Adventsumtrunk am Odemshof
DESCRIPTION:
URL:https://site.loevenicher-neustaedter.de/event/adventsumtrunk-am-odemshof/
LOCATION:Casino im Odemshof in Lövenich\, Brauweilerstraße 16\, 50859 Köln\, Köln\, Deutschland
CATEGORIES:Öffentliche Veranstaltung
END:VEVENT
BEGIN:VEVENT
DTSTART;TZID=Europe/Berlin:20261208T193000
DTEND;TZID=Europe/Berlin:20261208T210000
DTSTAMP:20260424T132116
CREATED:20260308T121454Z
LAST-MODIFIED:20260308T123224Z
UID:5684-1796758200-1796763600@site.loevenicher-neustaedter.de
SUMMARY:Mitgliederversammlung
DESCRIPTION:
URL:https://site.loevenicher-neustaedter.de/event/mitgliederversammlung-7/
LOCATION:Casino im Odemshof in Lövenich\, Brauweilerstraße 16\, 50859 Köln\, Köln\, Deutschland
CATEGORIES:Öffentliche Veranstaltung
END:VEVENT
BEGIN:VEVENT
DTSTART;TZID=Europe/Berlin:20270130T154000
DTEND;TZID=Europe/Berlin:20270130T233000
DTSTAMP:20260424T132116
CREATED:20260308T132229Z
LAST-MODIFIED:20260308T132229Z
UID:5700-1801323600-1801351800@site.loevenicher-neustaedter.de
SUMMARY:Kostümsitzung im Festzelt
DESCRIPTION:
URL:https://site.loevenicher-neustaedter.de/event/kostuemsitzung/
CATEGORIES:Öffentliche Veranstaltung
END:VEVENT
BEGIN:VEVENT
DTSTART;TZID=Europe/Berlin:20270131T094500
DTEND;TZID=Europe/Berlin:20270131T160000
DTSTAMP:20260424T132116
CREATED:20260308T132425Z
LAST-MODIFIED:20260308T132425Z
UID:5702-1801388700-1801411200@site.loevenicher-neustaedter.de
SUMMARY:Herrenfrühschoppen mit Hämchen-Essen im Festzelt
DESCRIPTION:
URL:https://site.loevenicher-neustaedter.de/event/herrenfruehschoppen/
CATEGORIES:Öffentliche Veranstaltung
END:VEVENT
BEGIN:VEVENT
DTSTART;TZID=Europe/Berlin:20270204T100000
DTEND;TZID=Europe/Berlin:20270204T190000
DTSTAMP:20260424T132116
CREATED:20260308T131304Z
LAST-MODIFIED:20260308T131525Z
UID:5690-1801735200-1801767600@site.loevenicher-neustaedter.de
SUMMARY:Weiberfastnacht im Festzelt - Wir eröffnen den Straßenkarneval!
DESCRIPTION:
URL:https://site.loevenicher-neustaedter.de/event/weiberfastnacht-im-festzelt/
LOCATION:Festzelt auf dem Kirchplatz in Lövenich\, Kirchgasse 2\, Köln\, NRW\, 50859
CATEGORIES:Öffentliche Veranstaltung
END:VEVENT
BEGIN:VEVENT
DTSTART;TZID=Europe/Berlin:20270205T130000
DTEND;TZID=Europe/Berlin:20270205T170000
DTSTAMP:20260424T132116
CREATED:20260308T131716Z
LAST-MODIFIED:20260308T131716Z
UID:5694-1801832400-1801846800@site.loevenicher-neustaedter.de
SUMMARY:Kindersitzung im Festzelt
DESCRIPTION:
URL:https://site.loevenicher-neustaedter.de/event/kindersitzung-im-festzelt/
CATEGORIES:Öffentliche Veranstaltung
END:VEVENT
BEGIN:VEVENT
DTSTART;TZID=Europe/Berlin:20270206T173000
DTEND;TZID=Europe/Berlin:20270206T233000
DTSTAMP:20260424T132116
CREATED:20260308T131856Z
LAST-MODIFIED:20260308T131856Z
UID:5696-1801935000-1801956600@site.loevenicher-neustaedter.de
SUMMARY:Anker Party #6 im Festzelt
DESCRIPTION:
URL:https://site.loevenicher-neustaedter.de/event/ankerparty/
CATEGORIES:Öffentliche Veranstaltung
END:VEVENT
BEGIN:VEVENT
DTSTART;TZID=Europe/Berlin:20270207T150000
DTEND;TZID=Europe/Berlin:20270207T200000
DTSTAMP:20260424T132116
CREATED:20260308T132006Z
LAST-MODIFIED:20260308T132006Z
UID:5698-1802012400-1802030400@site.loevenicher-neustaedter.de
SUMMARY:After Zoch Party im Festzelt
DESCRIPTION:
URL:https://site.loevenicher-neustaedter.de/event/afterzoch/
CATEGORIES:Öffentliche Veranstaltung
END:VEVENT
END:VCALENDAR